Workbook

Sheet додаток_1
D1: Додаток № 1
D2: до рішення Здолбунівської міської ради
D3: "Про зміни до бюджету Здолбунівської міської територіальної громади на 2026 рік"
D4: від 18 вересня 2026 року № 3506
B6: ЗМІНИ ДО ДОХОДІВ
B7: бюджету Здолбунівської міської територіальної громади на 2026 рік
B8: 1755900000
B9: (код бюджету)
G10: грн.
B11: КОД | C11: Найменування згідно з Класифікацією доходів бюджету | D11: Усього | E11: Загальний фонд | F11: Спеціальний фонд
F12: усього | G12: у тому числі бюджет розвитку
B13: 1 | C13: 2 | D13: 3 | E13: 4 | F13: 5 | G13: 6
B14: 10000000 | C14: Податкові надходження | D14: =E14+F14 -> 3987007 | E14: =E15+E32+E40+E58+E24 -> 3987007 | F14: =F58 -> 0 | G14: 0
B15: 11000000 | C15: Податки на доходи, податки на прибуток, податки на збільшення ринкової вартості | D15: =E15+F15 -> 3396907 | E15: =E22+E16 -> 3396907 | F15: 0 | G15: 0
B16: 11010000 | C16: Податок та збір на доходи фізичних осіб | D16: =E16+F16 -> 3396907 | E16: =E17+E18+E19+E20+E21 -> 3396907 | F16: 0 | G16: 0
B17: 11010100 | C17: Податок на доходи фізичних осіб, що сплачується податковими агентами, із доходів платника податку у вигляді заробітної плати | D17: =E17 -> 2679457 | E17: =2111257+500000+22400+45800 -> 2679457
B18: 11010200 | C18: Податок на доходи фізичних осіб з грошового забезпечення, грошових винагород та інших виплат, одержаних військовослужбовцями та особами рядового і начальницького складу, що сплачується податковими агентами | D18: =E18 -> 0
B19: 11010400 | C19: Податок на доходи фізичних осіб, що сплачується податковими агентами, із доходів платника податку інших ніж заробітна плата | D19: =E19 -> 0
B20: 11010500 | C20: Податок на доходи фізичних осіб, що сплачується фізичними особами за результатами річного декларування | D20: =E20 -> 527450 | E20: 527450
B21: 11011300 | C21: Податок на доходи фізичних осіб у вигляді мінімального податкового зобов'язання, що підлягає сплаті фізичними особами | D21: =E21 -> 190000 | E21: 190000
B22: 11020000 | C22: Податок на прибуток підприємств | D22: =E22+F22 -> 0 | E22: =E23 -> 0 | F22: 0 | G22: 0
B23: 11020200 | C23: Податок на прибуток підприємств та фінансових установ комунальної власності | D23: =E23+F23 -> 0 | F23: 0 | G23: 0
B24: 13000000 | C24: Рентна плата та плата за використання інших природних ресурсів | D24: =E24+F24 -> 0 | E24: =E28+E25+E30 -> 0 | F24: 0 | G24: 0
B25: 13010000 | C25: Рентна плата за спеціальне використання лісових ресурсів | D25: =D27+D26 -> 0 | E25: =E27+E26 -> 0 | F25: =F27 -> 0 | G25: =G27 -> 0
B26: 13010100 | C26: Рентна плата за спеціальне використання лісових ресурсів в частині деревини, заготовленої в порядку рубок головного користування | D26: =E26 -> 0
B27: 13010200 | C27: Рентна плата за спеціальне використання лісових ресурсів (крім рентної плати за спеціальне використання лісових ресурсів в частині деревини, заготовленої в порядку рубок головного користування) | D27: =E27 -> 0
B28: 13030000 | C28: Рентна плата за користування надрами загальнодержавного значення | D28: =E28+F28 -> 0 | E28: =E29 -> 0 | F28: 0 | G28: 0
B29: 13030100 | C29: Рентна плата за користування надрами для видобування інших корисних копалин загальнодержавного значення | D29: =E29 -> 0
B30: 13040000 | C30: Рентна плата за користування надрами місцевого значення | D30: =D31 -> 0 | E30: =E31 -> 0 | F30: =F31 -> 0 | G30: =G31 -> 0
B31: 13040100 | C31: Рентна плата за користування надрами для видобування корисних копалин місцевого значення | D31: =E31+F31 -> 0
B32: 14000000 | C32: Внутрішні податки на товари та послуги | D32: =E32+F32 -> -500000 | E32: =E37+E35+E33 -> -500000 | F32: 0 | G32: 0
B33: 14020000 | C33: Акцизний податок з вироблених в Україні підакцизних товарів (продукції) | D33: =E33+F33 -> -500000 | E33: =E34 -> -500000 | F33: =F34 -> 0 | G33: =G34 -> 0
B34: 14021900 | C34: Пальне | D34: =E34+F34 -> -500000 | E34: -500000 | F34: 0 | G34: 0
B35: 14030000 | C35: Акцизний податок з ввезених на митну територію України підакцизних товарів (продукції) | D35: =D36 -> 0 | E35: =E36 -> 0 | F35: =F36 -> 0 | G35: =G36 -> 0
B36: 14031900 | C36: Пальне | D36: =E36+F36 -> 0 | F36: 0 | G36: 0
B37: 14040000 | C37: Акцизний податок з реалізації суб'єктами господарювання роздрібної торгівлі підакцизних товарів | D37: =E37+F37 -> 0 | E37: =E38+E39 -> 0 | F37: 0 | G37: 0
B38: 14040100 | C38: Акцизний податок з реалізації виробниками та/або імпортерами, у тому числі в роздрібній торгівлі тютюнових виробів, тютюну та промислових замінників тютюну, рідин, що використовуються в електронних сигаретах, що оподатковується згідно з підпунктом 213.1.14 пункту 213.1статті 213 Податкового кодексу України Податкового кодексу України | D38: =E38+F38 -> 0
B39: 14040200 | C39: Акцизний податок з реалізації суб’єктами господарювання роздрібної торгівлі підакцизних товарів (крім тих, що оподатковуються згідно з підпунктом 213.1.14 пункту 213.1 статті 213 Податкового кодексу України) | D39: =E39+F39 -> 0
B40: 18000000 | C40: Місцеві податки та збори, що сплачуються (перераховуються) згідно з Податковим кодексом України | D40: =E40+F40 -> 1090100 | E40: =E41+E54+E52 -> 1090100 | F40: 0 | G40: 0
B41: 18010000 | C41: Податок на майно | D41: =E41+F41 -> 612500 | E41: =SUM(E42:E51) -> 612500 | F41: =SUM(F42:F49) -> 0 | G41: =SUM(G42:G49) -> 0
...

Sheet додаток_2
E1: Додаток № 2
D2: =додаток_1!D2 -> до рішення Здолбунівської міської ради
D3: =додаток_1!D3 -> "Про зміни до бюджету Здолбунівської міської територіальної громади на 2026 рік"
D4: =додаток_1!D4 -> від 18 вересня 2026 року № 3506
B8: ЗМІНИ ДО ФІНАНСУВАННЯ
B9: бюджету Здолбунівської міської територіальної громади на 2026 рік
B11: 1755900000
B12: (код бюджету)
G13: грн.
B14: Код | C14: Найменування згідно з Класифікацією фінансування бюджету | D14: Усього | E14: Загальний фонд | F14: Спеціальний фонд
F15: усього | G15: у тому числі бюджет розвитку
B16: 1 | C16: 2 | D16: 3 | E16: 4 | F16: 5 | G16: 6
B17: Фінансування за типом кредитора
B18: 200000 | C18: Внутрішнє фінансування | D18: =D19 -> 1500000 | E18: =E19 -> 8540672 | F18: =F19 -> -7040672 | G18: =G19 -> -7040672
B19: 208000 | C19: Фінансування за рахунок зміни залишків коштів бюджетів | D19: =D20-D21 -> 1500000 | E19: =E20-E21+E22 -> 8540672 | F19: =F20-F21+F22 -> -7040672 | G19: =G20-G21+G22 -> -7040672
B20: 208100 | C20: На початок періоду | D20: =E20+F20 -> 4124056.6 | E20: 4124056.6
B21: 208200 | C21: На кінець періоду | D21: =E21+F21 -> 2624056.6 | E21: 2624056.6
B22: 208400 | C22: Кошти, що передаються із загального фонду бюджету до бюджету розвитку (спеціального фонду) | D22: =E22+F22 -> 0 | E22: =800000+4140672+2100000 -> 7040672 | F22: -7040672 | G22: -7040672
C23: Загальне фінансування | D23: =D18 -> 1500000 | E23: =E18 -> 8540672 | F23: =F18 -> -7040672 | G23: =G18 -> -7040672
B24: Фінансування за типом боргового зобов'язання
B25: 600000 | C25: Фінансування за активними операціями | D25: =D26 -> 1500000 | E25: =E26 -> 8540672 | F25: =F26 -> -7040672 | G25: =G26 -> -7040672
B26: 602000 | C26: Зміни обсягів готівкових коштів | D26: =D27-D28 -> 1500000 | E26: =E27-E28+E29 -> 8540672 | F26: =F27-F28+F29 -> -7040672 | G26: =G27-G28+G29 -> -7040672
B27: 602100 | C27: На початок періоду | D27: =E27+F27 -> 4124056.6 | E27: =E20 -> 4124056.6 | F27: =F20 -> 0 | G27: =G20 -> 0
B28: 602200 | C28: На кінець періоду | D28: =E28+F28 -> 2624056.6 | E28: =E21 -> 2624056.6 | F28: =F21 -> 0 | G28: =G21 -> 0
B29: 602400 | C29: Кошти, що передаються із загального фонду бюджету до бюджету розвитку (спеціального фонду) | D29: =E29+F29 -> 0 | E29: =E22 -> 7040672 | F29: =F22 -> -7040672 | G29: =G22 -> -7040672
C30: Загальне фінансування | D30: =D25 -> 1500000 | E30: =E25 -> 8540672 | F30: =F25 -> -7040672 | G30: =G25 -> -7040672
B35: Секретар міської ради | E35: Олег БАБІЙ

Sheet додаток_3
K1: Додаток № 3
K2: =додаток_1!D2 -> до рішення Здолбунівської міської ради
K3: =додаток_1!D3 -> "Про зміни до бюджету Здолбунівської міської територіальної громади на 2026 рік"
K4: =додаток_1!D4 -> від 18 вересня 2026 року № 3506
B5: ЗМІНИ ДО РОЗПОДІЛУ ВИДАТКІВ
B6: бюджету Здолбунівської міської територіальної громади на 2026 рік
A7: 1755900000
A8: (код бюджету)
P9: (грн.)
A10: Код Програмної класифікації видатків та кредиту-вання місцевого бюджету | B10: Код Типової програмної класифікації видатків та кредитування місцевого бюджету | C10: Код Функціональної класифікації видатків та кредитування бюджету | D10: Найменування головного розпорядника коштів місцевого бюджету/відповідального виконавця, найменування бюджетної програми згідно з Типовою програмною класифікацією видатків та кредитування місцевого бюджету | E10: Загальний фонд | J10: Спеціальний фонд | P10: РАЗОМ
E11: усього | F11: видатки споживання | G11: з них | I11: видатки розвитку | J11: усього | K11: у тому числі бюджет розвитку | L11: видатки споживання | M11: з них | O11: видатки розвитку
G12: оплата праці | H12: комунальні послуги та енергоносії | M12: оплата праці | N12: комунальні послуги та енергоносії
A14: 1 | B14: 2 | C14: 3 | D14: 4 | E14: 5 | F14: 6 | G14: 7 | H14: 8 | I14: 9 | J14: 10 | K14: 11 | L14: 12 | M14: 13 | N14: 14 | O14: 15 | P14: 16
A15: 0100000 | D15: Здолбунівська міська рада | E15: =E16 -> 11178487 | F15: =F16 -> 10948487 | G15: =G16 -> 2193435 | H15: =H16 -> 0 | I15: =I16 -> 230000 | J15: =J16 -> -2100000 | K15: =K16 -> -2100000 | L15: =L16 -> 0 | ... P15: =P16 -> 9078487
A16: 0110000 | D16: Здолбунівська міська рада | E16: =E17+E22+E29+E33+E40+E44+E45+E46+E50+E51+E49+E34+E26 -> 11178487 | F16: =F17+F22+F29+F33+F40+F44+F45+F46+F50+F51+F34+F26 -> 10948487 | G16: =G17+G22+G29+G33+G40+G44+G45+G46+G50+G51 -> 2193435 | H16: =H17+H22+H29+H33+H40+H44+H45+H46+H50+H51 -> 0 | I16: =I17+I22+I29+I33+I40+I44+I45+I46+I50+I51+I49 -> 230000 | J16: =J39+J41+J35 -> -2100000 | K16: =K17+K18+K19+K20+K21+K22+K23+K25+K26+K28+K29+K33+K34+K36+K37+K40+K41+K42+K43+K45+K46+K47+K48+K50+K51+K35+K38+K27 -> -2100000 | L16: =L17+L18+L19+L20+L21+L22+L23+L25+L26+L28+L29+L33+L34+L36+L37+L40+L41+L42+L43+L45+L46+L47+L48 -> 0 | M16: =M17+M18+M19+M20+M21+M22+M23+M25+M26+M28+M29+M33+M34+M36+M37+M40+M41+M42+M43+M45+M46+M47+M48 -> 0 | N16: =N17+N18+N19+N20+N21+N22+N23+N25+N26+N28+N29+N33+N34+N36+N37+N40+N41+N42+N43+N45+N46+N47+N48 -> 0 | O16: =O17+O18+O19+O20+O21+O22+O23+O25+O26+O28+O29+O33+O34+O36+O37+O40+O41+O42+O43+O45+O46+O47+O48+O50+O51+O35+O38+O39+O27 -> -2100000 | P16: =P17+P22+P29+P33+P39+P40+P41+P44+P45+P46+P50+P51+P49+P34+P26+P35 -> 9078487
A17: 0110150 | B17: 0150 | C17: 0111 | D17: Організаційне, інформаційно-аналітичне та матеріально-технічне забезпечення діяльності обласної ради, районної ради, районної у місті ради (у разі її створення), міської, селищної, сільської рад | E17: =F17+I17 -> 1030000 | F17: =200000+800000 -> 1000000 | G17: 800000 | I17: 30000 | P17: =E17+J17 -> 1030000
A18: 0110180 | B18: 0180 | C18: 0133 | D18: Інша діяльність у сфері державного управління | E18: =F18 -> 0 | P18: =E18 -> 0
A19: 0113032 | B19: 3032 | C19: 1070 | D19: Надання пільг окремим категоріям громадян з оплати послуг зв'язку | E19: =F19 -> 0 | P19: =E19 -> 0
A20: 0113033 | B20: 3033 | C20: 1070 | D20: Компенсаційні виплати на пільговий проїзд автомобільним транспортом окремим категоріям громадян | E20: =F20 -> 0 | P20: =E20+J20 -> 0
A21: 0113035 | B21: 3035 | C21: 1070 | D21: Компенсаційні виплати за пільговий проїзд окремих категорій громадян на залізничному транспорті | E21: =F21 -> 0 | P21: =E21+J21 -> 0
A22: 0113104 | B22: 3104 | C22: 1020 | D22: Забезпечення соціальними послугами за місцем проживання громадян, які не здатні до самообслуговування у зв"язку з похилим віком, хворобою, інвалідністю | E22: =F22 -> 1700000 | F22: =200000+1500000 -> 1700000 | G22: =1229500+163935 -> 1393435 | P22: =E22+J22 -> 1700000
A23: 0113112 | B23: 3112 | C23: 1040 | D23: Заходи державної політики з питань дітей та їх соціального захисту | E23: =F23 -> 0 | P23: =E23+J23 -> 0
A24: 0113160 | B24: 3160 | C24: 1010 | D24: Надання соціальних гарантій фізичним особам, які надають соціальні послуги громадянам похилого віку, особам з інвалідністю, дітям з інвалідністю, хворим, які не здатні до самообслуговування і потребують сторонньої допомоги | P24: =E24+J24 -> 0
A25: 0113225 | B25: 3225 | C25: 1060 | D25: Реалізація публічного інвестиційного проекту із виплати грошової компенсації за належні для отримання жилі приміщення для сімей осіб, визначених пунктами 2–5 частини першої статті 10-1 Закону України «Про статус ветеранів війни, гарантії їх соціального захисту», для осіб з інвалідністю I–II груп, яка настала внаслідок поранення, контузії, каліцтва або захворювання, одержаних під час безпосередньої участі в антитерористичній операції, забезпеченні її проведення, здійсненні заходів із забезпечення національної безпеки і оборони, відсічі і стримування збройної агресії Російської Федерації у Донецькій та Луганській областях, забезпеченні їх здійснення, у заходах, необхідних для забезпечення оборони України, захисту безпеки населення та інтересів держави у зв’язку з військовою агресією Російської Федерації проти України, визначених пунктами 11–14 частини другої статті 7 Закону України «Про статус ветеранів війни, гарантії їх соціального захисту», та які потребують поліпшення житлових умов | E25: =F25 -> 0 | P25: =E25+J25 -> 0
A26: 0113242 | B26: 3242 | C26: 1090 | D26: Інші заходи та заклади у сфері соціального захисту і соціального забезпечення | E26: =F26 -> 45000 | F26: =-20000+65000 -> 45000 | P26: =E26+J26 -> 45000
A27: 0113250 | B27: 3250 | C27: 1090 | D27: Підготовка та реалізація публічних інвестиційних проектів / програм публічних інвестицій за рахунок коштів місцевого бюджету в галузі соціального захисту та соціального забезпечення | P27: =E27+J27 -> 0
A28: 0114082 | B28: 4082 | C28: 0829 | D28: Інші заходи в галузі культури і мистецтва | E28: =F28 -> 0 | P28: =E28+J28 -> 0
A29: 0116010 | B29: 6010 | D29: Утримання та ефективна експлуатація об'єктів житлово-комунального господарства | E29: =E30+E31+E32 -> 2653000 | F29: =F30+F31+F32 -> 2653000 | P29: =E29+J29 -> 2653000
A30: 0116012 | B30: 6012 | C30: 0620 | D30: Забезпечення діяльності з виробництва, транспортування, постачання теплової енергії | E30: =F30 -> 2100000 | F30: 2100000 | P30: =E30+J30 -> 2100000
A31: 0116013 | B31: 6013 | C31: 0620 | D31: Забезпечення діяльності водопровідно-каналізаційного господарства | E31: =F31 -> 433000 | F31: =350000+83000 -> 433000 | P31: =E31+J31 -> 433000
A32: 0116017 | B32: 6017 | C32: 0620 | D32: Інша діяльність, пов'язана з експлуатацією об'єктів житлово-комунального господарства | E32: =F32+I32 -> 120000 | F32: 120000 | P32: =E32+J32 -> 120000
A33: 0116030 | B33: 6030 | C33: 0620 | D33: Організація благоустрою населених пунктів | E33: =F33+I33 -> 880000 | F33: =880000-200000 -> 680000 | I33: 200000 | P33: =E33+J33 -> 880000
A34: 0116071 | B34: 6071 | C34: 0640 | D34: Відшкодування різниці між розміром ціни (тарифу) на теплову енергію, у тому числі її виробництво, транспортування та постачання, комунальні послуги, що затверджувалися або погоджувалися рішенням місцевого органу виконавчої влади та органу місцевого самоврядування, та розміром економічно обґрунтованих витрат на їх виробництво (надання) | E34: =F34 -> 0 | P34: =E34+J34 -> 0
A35: 0116091 | B35: 6091 | C35: 0640 | D35: Підготовка та реалізація публічних інвестиційних проектів / програм публічних інвестицій за рахунок коштів місцевого бюджету в галузі житлово- комунального господарства | J35: =K35 -> -2100000 | K35: =O35 -> -2100000 | O35: -2100000 | P35: =E35+J35 -> -2100000
A36: 0117130 | B36: 7130 | C36: 0421 | D36: Проведення заходів із землеустрою | E36: =F36 -> 0 | P36: =E36+J36 -> 0
A37: 0117350 | B37: 7350 | C37: 0443 | D37: Розроблення схем планування та забудови територій (містобудівної документації) | J37: =K37 -> 0 | K37: =O37 -> 0 | P37: =J37 -> 0
A38: 0117367 | B38: 7367 | C38: 0490 | D38: Реалізація проектів у рамках Програми відновлення України III | J38: =K38 -> 0 | K38: =O38 -> 0 | P38: =J38 -> 0
A39: 0117367 | B39: 7367 | C39: 0490 | D39: Реалізація проектів у рамках Програми відновлення України III | J39: =O39 -> 0 | P39: =J39 -> 0
A40: 0117461 | B40: 7461 | C40: 0456 | D40: Утримання та розвиток автомобільних доріг та дорожньої інфраструктури за рахунок коштів місцевого бюджету | E40: =F40 -> 3994000 | F40: 3994000 | P40: =E40+J40 -> 3994000
A41: 0117670 | B41: 7670 | C41: 0490 | D41: Внески до статутного капіталу суб'єктів господарювання | J41: =K41 -> 0 | K41: =O41 -> 0 | P41: =J41 -> 0
...

Sheet додаток _4
D1: Додаток № 4
D2: =додаток_1!D2 -> до рішення Здолбунівської міської ради
D3: =додаток_1!D3 -> "Про зміни до бюджету Здолбунівської міської територіальної громади на 2026 рік"
D4: =додаток_1!D4 -> від 18 вересня 2026 року № 3506
A6: ЗМІНИ ДО МІЖБЮДЖЕТНИХ ТРАНСФЕРТІВ
A7: бюджету Здолбунівської міської територіальної громади на 2026 рік
A8: 1755900000
A9: (код бюджету)
A11: 1. Показники міжбюджетних трансфертів з інших бюджетів
E12: (грн.)
A13: Код Класифікації доходу бюджету/ Код бюджету | B13: Найменування трансферту/ Найменування бюджету-надавача міжбюджетного трансферту | E13: Усього
A14: 1 | B14: 2 | E14: 3
A15: І. Трансферти до загального фонду бюджету
A16: 9900000000 | B16: Державний бюджет | E16: =E17+E19+E21+E20+E18+E22 -> 66269200
A17: 41036000 | B17: Субвенція з державного бюджету місцевим бюджетам на реалізацію публічного інвестиційного проекту на забезпечення якісної, сучасної та доступної загальної середньої освіти "Нова українська школа" | E17: =додаток_1!D107 -> 0
A18: =додаток_1!B103 -> 41031100 | B18: =додаток_1!C103 -> Субвенція з державного бюджету місцевим бюджетам на забезпечення харчуванням учнів закладів загальної середньої освіти | E18: =додаток_1!D103 -> 0
A19: 41033900 | B19: =додаток_1!C105 -> Освітня субвенція з державного бюджету місцевим бюджетам | E19: 66269200
A20: =додаток_1!B106 -> 41035400 | B20: =додаток_1!C106 -> Субвенція з державного бюджету місцевим бюджетам на надання державної підтримки особам з особливими освітніми потребами
A21: =додаток_1!B108 -> 41036300 | B21: =додаток_1!C108 -> Субвенція з державного бюджету місцевим бюджетам на здійснення доплат педагогічним працівникам закладів загальної середньої освіти | E21: =додаток_1!E108 -> 0
A22: 41035100 | B22: =додаток_1!C104 -> Субвенція з державного бюджету місцевим бюджетам на фінансування заходів соціально-економічної компенсації ризику населення, яке проживає на території зони спостереження
A23: 17100000000 | B23: Рівненський обласний бюджет | E23: =SUM(E24:E29) -> 1769300
A24: 41040400 | B24: Інші дотації з місцевого бюджету
A25: =додаток_1!B114 -> 41050300 | B25: =додаток_1!C114 -> Субвенція з місцевого бюджету на забезпечення харчуванням учнів закладів загальної середньої освіти за рахунок відповідної субвенції з державного бюджету | E25: =додаток_1!D114 -> 0
A26: =додаток_1!B115 -> 41051000 | B26: =додаток_1!C115 -> Субвенція з місцевого бюджету на здійснення переданих видатків у сфері освіти за рахунок коштів освітньої субвенції | E26: 1769300
A27: =додаток_1!B119 -> 41051400 | B27: =додаток_1!C119 -> Субвенція з місцевого бюджету на забезпечення якісної, сучасної та доступної загальної середньої освіти "Нова українська школа" за рахунок відповідної субвенції з державного бюджету | E27: =додаток_1!D119 -> 0
A28: =додаток_1!B120 -> 41057700 | B28: =додаток_1!C120 -> Субвенція з місцевого бюджету на виконання окремих заходів з реалізації соціального проекту "Активні парки - локації здорової України" за рахунок відповідної субвенції з державного бюджету | E28: =додаток_1!D120 -> 0
A29: 41059300 | B29: =додаток_1!C118 -> Субвенція з місцевого бюджету на забезпечення діяльності фахівців із супроводу ветеранів війни та демобілізованих осіб та окремі заходи з підтримки осіб, які захищали незалежність, суверенітет та територіальну цілісність України, за рахунок відповідної субвенції з державного бюджету | E29: =додаток_1!D118 -> 0
A30: 1755800000 | B30: Бюджет Здовбицької сільської територіальої громади | E30: =SUM(E31:F40) -> 200000
A31: 41051000 | B31: Субвенція з місцевого бюджету на здійснення переданих видатків у сфері освіти за рахунок коштів освітньої субвенції для оплати праці педагогічних працівників, які викладатимуть предмет "Захист України" в осередку
A32: 41053900 | B32: Інша субвенція на утримання Здолбунівського інклюзивно-ресурсного центру Здолбунівської міської ради
A33: 41053900 | B33: Інша субвенція на відшкодування вартості наданих послуг для осіб з особливими освітніми потребами з проведення комплексної психолого-педагогічної оцінки розвитку особистості та забезпечення їх системного кваліфікаційного супроводу КУ "Здолбунівського інклюзивно-ресурсного центру Здолбунівської міської ради"
A34: 41053900 | B34: Інша субвенція на забезпечення соціальними послугами жителів Здовбицької сільської територіальної громади в Здолбунівському територіальному центрі соціального обслуговування (надання соціальних послуг) Здолбунівської міської ради
A35: 41053900 | B35: Інша субвенція на оплату праці соціальних робітників та соціального працівника Здолбунівського територіального центру соціального обслуговування (надання соціальних послуг) Здолбунівської міської ради, які обслуговують жителів Здовбицької громади | E35: 200000
A36: 41053900 | B36: Інша субвенція на фінансову підтримку комунального некомерційного підприємства "Здолбунівський центр первинної медичної допомоги" Здолбунівської міської ради Рівненської області (оплата за електроенергію)
A37: 41053900 | B37: Інша субвенція для комунального некомерційного підприємства "Здолбунівська центральна міська лікарня" Здолбунівської міської ради Рівненської області (забезпечення пільгових категорій населення лікарськими засобами)
A38: 41053900 | B38: Інша субвенція для комунального некомерційного підприємства "Здолбунівська стоматологічна поліклініка" Здолбунівської міської ради на безкоштовне зубопротезування пільгових категорій населення жителів Здовбицької сільської територіальної громади
A39: 41053900 | B39: Інша субвенція на утримання дітей, зареєстрованих на території Здовбицької сільської територіальної громади, які зараховані у Новомильський заклад дошкільної освіти "Барвінок"
A40: 41053900 | B40: Інша субвенція на відшкодування вартості навчання дітей які зареєстровані у Здовбицькій сільській територіальній громаді у Здолбунівській музичній школі
A41: 17563000000 | B41: Бюджет Мізоцької селищної територіальної громади | E41: =E42+E43+E44 -> 0
A42: 41053900 | B42: Інша субвенція на оплату праці соціального робітника та соціальних працівників Здолбунівського територіального центру соціального обслуговуванння (надання соціальних послуг) Здолбунівської міської ради, які обслуговують жителів Мізоцької селищної територіальної громади
...

Sheet додаток_5
F1: Додаток № 5
G2: =додаток_1!D2 -> до рішення Здолбунівської міської ради
G3: =додаток_1!D3 -> "Про зміни до бюджету Здолбунівської міської територіальної громади на 2026 рік"
G4: =додаток_1!D4 -> від 18 вересня 2026 року № 3506
C8: ЗМІНИ до обсягів
C9: публічних інвестицій у розрізі публічних інвестиційних проектів та програм публічних інвестицій
C10: у 2026 році
A11: 1755900000
A12: (код бюжету)
A14: № з/п | B14: Найменування галузі(сектору) для публічного інвестування/публічного інвестиційного проєкту/програми публічних інвестицій | C14: Унікальний ідентифікатор проєкту/ програми | D14: Код Програмної класифікації видатків та кредитування місцевого бюджету | E14: Найменування бюджетної програми згідно з Типовою програмною класифікацією видатків та кредитування місцевого бюджету | F14: Найменування відповідального головного розпорядника коштів місцевого бюджетуу за галузь(сектор)/головного розпорядника коштів місцевого бюджету/відповідального виконавця | G14: Період реалізації публічного інвестиційного проєкту/програми публічних інвестицій(рік початку і завершення) | H14: Загальна вартість публічного інвестиційного проєкту /програми публічних інвестицій | I14: Обсяг бюджетних коштів, спрямованих на реалізацію публічного інвестиційного проєкту/програми публічних інвестицій у 2026 році | J14: у тому числі за рахунок:
J15: коштів місцевого бюджету | K15: міжбюджетних трансфертів з державного бюджету | L15: міжбюджетних трансфертів з інших місцевих бюджетів | M15: місцевих запозичень | N15: інших джерел
A16: 1 | B16: 2 | C16: 3 | D16: 4 | E16: 5 | F16: 6 | G16: 7 | H16: 8 | I16: 9 | J16: 10 | K16: 11 | L16: 12 | M16: 13 | N16: 14
A17: 1 | B17: Муніципальна інфраструктура та послуги ЖКГ | C17: Х | D17: 0116091 | E17: Підготовка та реалізація публічних інвестиційних проектів / програм публічних інвестицій за рахунок коштів місцевого бюджету в галузі житлово- комунального господарства | F17: Здолбунівська міська рада/ КП Здолбунівське | G17: Х | H17: =H18 -> 0 | I17: =I18 -> -2100000 | J17: =J18 -> -2100000
A18: 1.1 | C18: 011025-4230АА7D | G18: 2026 | I18: -2100000 | J18: -2100000
C19: Капітальний ремонт вулиць: І. Мазепи від лікарні до вул. Базарної ; вулиці Паркової від перехрестя вулиць Паркової, Шевченка та Шкільної; вулиці Грушевського від вул. Шевченка до вул. Приходька для створення безбар'єрних маршрутів в м. Здолбунів Рівненського району Рівненської області.
A20: 1 | B20: Муніципальна інфраструктура та послуги ЖКГ | C20: Х | D20: 0116091 | E20: Підготовка та реалізація публічних інвестиційних проектів / програм публічних інвестицій за рахунок коштів місцевого бюджету в галузі житлово- комунального господарства | F20: Здолбунівська міська рада/ КП Здолбунівкомуненергія | G20: Х | H20: =SUM(H21:H24) -> 0 | I20: =I21+I23 -> 0 | J20: =J21+J23 -> 0 | K20: =K21+K23 -> 0 | L20: =L21+L23 -> 0 | M20: =M21+M23 -> 0 | N20: =N21+N23 -> 0
A21: 1.1 | C21: 230925-FC918BD2 | G21: 2023-2028
C22: Реконструкція теплової мережі від котельні по вул.Шкільна, 40Б
A23: 1.2 | C23: 230925-1C88126E | G23: 2023-2027
C24: Капітальний ремонт з заміною котла котельні за адресою: вул. Заводська, 2Б
A25: 1 | B25: Муніципальна інфраструктура та послуги ЖКГ | C25: Х | D25: 0116091 | E25: Підготовка та реалізація публічних інвестиційних проектів / програм публічних інвестицій за рахунок коштів місцевого бюджету в галузі житлово- комунального господарства | F25: КП Здолбунівводоканал | G25: Х | H25: =H26 -> 0 | I25: =I26+I28 -> 0 | J25: =J26+J28 -> 0
A26: 1.1 | C26: 290426-А6192730 | G26: 2026 | I26: =J26 -> 0
C27: Нове будівництво насосної підкачувальної станції на лінії водопостачання по вул.Залізнична у м.Здолбунів Рівненського району Рівненської області
A28: 1.2 | C28: 290426-68DOA4F9 | G28: 2026
C29: Нове будівництво насосної підкачувальної станції на лінії водопостачання по вул.Залізнична у м.Здолбунів Рівненського району Рівненської області
A30: 2 | B30: Муніципальна інфраструктура та послуги ЖКГ | C30: Х | D30: 0117367 | E30: Реалізація проектів у рамках Програми відновлення України III | F30: Здолбунівська міська рада/ відділ з питань комунального господарства, благоустрою та екології | G30: х | H30: =H31+H33 -> 0 | I30: =I31+I33 -> 0 | J30: =J31+J33 -> 0 | K30: =K31+K33 -> 0
A31: 2.1 | C31: 240925-07BBEFE6 | G31: 2025-2026
C32: Реконструкція котельні з встановленням когенераційної установки потужністю 600 кВт за адресою: вул.Шкільна,40.
A33: 2.2 | C33: 240925-EC16D4CE | G33: 2025-2026
C34: Реконструкція котельні з встановленням когенераційної установки потужністю 600 кВт за адресою: вул.Шкільна,40Б.
B35: Всього по галузі: | H35: =H30+H20+H17+H25 -> 0 | I35: =I30+I20+I17+I25 -> -2100000 | J35: =J30+J20+J17+J25 -> -2100000 | K35: =K30+K20+K17 -> 0
A36: 2 | B36: Соціальна сфера | C36: Х | D36: 0113250 | E36: Підготовка та реалізація публічних інвестиційних проектів / програм публічних інвестицій за рахунок коштів місцевого бюджету в галузі соціального захисту та соціального забезпечення | F36: Здолбунівська міська рада/ Територіальний центр сціального обслуговування(надання соціальних послуг) | H36: =H37 -> 0 | I36: =I37 -> 0 | J36: =J37 -> 0
A37: 2.1 | C37: 180925-CCEA71EB | G37: 2024-2026
C38: Капітальний ремонт приміщення відділення фізичної реабілітації Здолбунівського територіального центру соціального обслуговування (надання соціальних послуг) Здолбунівської міської ради за адресою: вул. Мазепи гетьмана, 25 м. Здолбунів, Рівненської області
B39: Всього по галузі: | H39: =H36 -> 0 | I39: =I36 -> 0 | J39: =J36 -> 0
A40: 3 | B40: Освіта та наука | C40: Х | D40: 0611183 | E40: Співфінансування заходів, що реалізуються за рахунок субвенції з державного бюджету місцевим бюджетам на реалізацію публічного інвестиційного проекту на забезпечення якісної, сучасної та доступної загальної середньої освіти «Нова українська школа» | F40: Управління з гуманітарних питань Здолбунівської міської ради | H40: =SUM(H41:H66) -> 0 | I40: =SUM(I41:I66) -> 0 | J40: =SUM(J41:J66) -> 0
A41: 1.1 | C41: 131025-F5DD0B2E | G41: 2026
C42: Нова українська школа
A43: 1.2 | C43: 201125-4B959237 | G43: 2026
C44: Придбання засобів навчання та обладнання, комп'ютерного та мультимедійного обладнання для навчальних кабінетів Здолбунівського ліцею №2 Здолбунівської міської ради Рівненської області в межах впровадження реформи "Нова українська школа"
...

Sheet додаток_6
H1: Додаток № 6
H2: =додаток_1!D2 -> до рішення Здолбунівської міської ради
H3: =додаток_1!D3 -> "Про зміни до бюджету Здолбунівської міської територіальної громади на 2026 рік"
H4: =додаток_1!D4 -> від 18 вересня 2026 року № 3506
C6: ЗМІНИ
C7: до розподілу витрат бюджету Здолбунівської територіальної громади
C8: на реалізацію місцевих / регіональних програм у 2026 році
B9: 1755900000
B10: (код бюджету)
J11: (грн.)
B12: Код Програмної класифікації видатків та кредиту-вання місцевого бюджету | C12: Код Типової програмної класифікації видатків та кредитування місцевого бюджету | D12: Код Функціональної класифікації видатків та кредитування бюджету | E12: Найменування головного розпорядника коштів місцевого бюджету / відповідального виконавця, найменування бюджетної програми згідно з Типовою програмною класифікацією видатків та кредитування місцевого бюджету | F12: Найменування місцевої / регіональної програми | G12: Дата і номер документа, яким затверджено місцеву регіональну програму | H12: Усього | I12: Загальний фонд | J12: Спеціальний фонд
J13: усього | K13: у тому числі бюджет розвитку
B14: 1 | C14: 2 | D14: 3 | E14: 4 | F14: 5 | G14: 6 | H14: 7 | I14: 8 | J14: 9 | K14: 10
B15: 0110000 | E15: Здолбунівська міська рада | H15: =SUM(H16:H48) -> 8248487 | I15: =SUM(I16:I48) -> 8248487 | J15: =SUM(J16:J48) -> 0 | K15: =SUM(K16:K48) -> 0
B16: 0110150 | C16: 0150 | D16: 0111 | E16: Організаційне, інформаційно-аналітичне та матеріально-технічне забезпечення діяльності обласної ради, районної ради, районної у місті ради (у разі її створення), міської, селищної сільської рад | H16: =J16 -> 0 | J16: =K16 -> 0
B17: 0110180 | C17: 0180 | D17: 0133 | E17: Інша діяльність у сфері державного управління | F17: Програма забезпечення депутатської діяльності депутатів Здолбунівської міської ради на 2025-2027 роки | G17: Рішення міської ради від 20.12.24. № 2498 | H17: =I17+J17 -> 0
B18: 0113032 | C18: 3032 | D18: 1070 | E18: Надання пільг окремим категоріям громадян з оплати послуг зв'язку | F18: Програма соціального захисту населення Здолбунівської міської територіальної громади та надання пільг окремим категоріям громадян на 2025-2027 роки | G18: Рішення міської ради від 20.12.24. № 2498 | H18: =I18 -> 0 | I18: =додаток_3!E19 -> 0
B19: 0113033 | C19: 3033 | D19: 1070 | E19: =додаток_3!D20 -> Компенсаційні виплати на пільговий проїзд автомобільним транспортом окремим категоріям громадян | F19: Програма соціального захисту населення Здолбунівської міської територіальної громади та надання пільг окремим категоріям громадян на 2025-2027 роки | G19: Рішення міської ради від 20.12.24. № 2498 | H19: =I19+J19 -> 0 | I19: =додаток_3!E20 -> 0
B20: 0113035 | C20: 3035 | D20: 1070 | E20: Компенсаційні виплати на пільговий проїзд окремих категорій громадян залізничним транспортом | F20: Програма здійснення відшкодування вартості пільгового проїзду окремих категорій громадян залізничним транспортом на приміському сполученні Здолбунівської міської територіальної громади на 2025-2027 роки | G20: Рішення міської ради від 20.12.24. № 2498 | H20: =I20+J20 -> 0
B21: 0113104 | C21: 3104 | D21: 1020 | E21: Забезпечення соціальними послугами за місцем проживання громадян, які не здатні до самообслуговування у зв"язку з похилим віком, хворобою, інвалідністю | F21: Програма розвитку Здолбунівської міської територіальної громади та підтримки комунальних підприємств на 2025-2027 роки | G21: Рішення міської ради від 20.12.24. № 2498 | H21: =J21 -> 0 | J21: =K21 -> 0
B22: 0113112 | C22: 3112 | D22: 1040 | E22: Заходи державної політики з питань дітей та їх соціального захисту | F22: Програма щодо реалізації Конвенції про права дитини у Здолбунівській міській територіальній громаді на 2025-2027 роки | G22: Рішення міської ради від 20.12.24. № 2498 | H22: =I22+J22 -> 0
B23: 0113160 | C23: 3160 | D23: 1010 | E23: Надання соціальних гарантій фізичним особам, які надають соціальні послуги громадянам похилого віку, особам з інвалідністю, дітям з інвалідністю, хворим, які не здатні до самообслуговування і потребують сторонньої допомоги | F23: Програма соціального захисту населення Здолбунівської міської територіальної громади та надання пільг окремим категоріям громадян на 2025-2027 роки | G23: Рішення міської ради від 20.12.24. № 2498 | H23: =I23 -> 0
B24: 0113242 | C24: 3242 | D24: 1090 | E24: Інші заходи та заклади у сфері соціального захисту і соціального забезпечення | F24: Програма соціального захисту населення Здолбунівської міської територіальної громади та надання пільг окремим категоріям громадян на 2025-2027 роки | G24: Рішення міської ради від 20.12.24. № 2498 | H24: =I24 -> -20000 | I24: -20000
B25: 0113242 | C25: 3242 | D25: 1090 | E25: Інші заходи та заклади у сфері соціального захисту і соціального забезпечення | F25: Програма соціальної підтримки Захисників та Захисниць України на 2025-2027 роки | G25: Рішення міської ради від 20.12.24. № 2498 | H25: =I25+J25 -> 65000 | I25: 65000
B26: 0113242 | C26: 3242 | D26: 1090 | E26: Інші заходи та заклади у сфері соціального захисту і соціального забезпечення | F26: Прорама підтримки внутрішньо переміщених осіб на 2025-2027 роки | G26: Рішення міської ради від 20.12.24. № 2498 | H26: =I26+J26 -> 0
B27: 0114082 | C27: 4082 | D27: 0829 | E27: Інші заходи в галузі культури і мистецтва | F27: Програма заходів з відзначення державних, професійних свят та ювілейних дат на 2025-2027 роки | G27: Рішення міської ради від 20.12.24. № 2498 | H27: =I27+J27 -> 0
B28: 0116012 | C28: 6012 | D28: 0620 | E28: Забезпечення діяльності з виробництва, транспортування, постачання теплової енергії | F28: Програма ефективної роботи та утримання водопровідно-каналізаційного господарства, діяльності з виробництва, транспортування, постачання теплової енергії на 2025-2027 роки | G28: Рішення міської ради від 20.12.24. № 2498 | H28: =I28 -> 2100000 | I28: =додаток_3!E30 -> 2100000
B29: 0116013 | C29: 6013 | D29: 0620 | E29: Забезпечення діяльності водопровідно-каналізаційного господарства | F29: Програма ефективної роботи та утримання водопровідно-каналізаційного господарства, діяльності з виробництва, транспортування, постачання теплової енергії на 2025-2027 роки | G29: Рішення міської ради від 20.12.24. № 2498 | H29: =I29 -> 433000 | I29: =додаток_3!E31 -> 433000
B30: 0116017 | C30: 6017 | D30: 0620 | E30: =додаток_3!D32 -> Інша діяльність, пов'язана з експлуатацією об'єктів житлово-комунального господарства | F30: Програма утримання та обслуговування об'єктів комунальної власності Здолбунівської міської територіальної громади, які закріпленні за комунальним підприємством"Здолбунівське" на праві господарського відання на 2025-2027 роки | G30: Рішення міської ради від 20.12.24. № 2498 | H30: =I30 -> 120000 | I30: =додаток_3!E32 -> 120000
B31: 0116030 | C31: 6030 | D31: 0620 | E31: Організація благоустрою населених пунктів | F31: Програма благоустрою Здолбунівської міської територіальної громади на 2025-2027 роки | G31: Рішення міської ради від 20.12.24. № 2498 | H31: =I31+J31 -> 880000 | I31: =додаток_3!E33 -> 880000
B32: 0116071 | C32: 6071 | D32: 0640 | E32: Відшкодування різниці між розміром ціни (тарифу) на теплову енергію, у тому числі її виробництво, транспортування та постачання, комунальні послуги, що затверджувалися або погоджувалися рішенням місцевого органу виконавчої влади та органу місцевого самоврядування, та розміром економічно обґрунтованих витрат на їх виробництво (надання) | F32: Програми відшкодування різниці між тарифами на послуги з централізованого водопостачання та централізованого водовідведення для населення | G32: Рішення міської ради від 26.01.26. № 3135 | H32: =I32 -> 0 | I32: =додаток_3!E34 -> 0
B33: 0116091 | C33: 6091 | D33: 0640 | E33: Підготовка та реалізація публічних інвестиційних проектів / програм публічних інвестицій за рахунок коштів місцевого бюджету в галузі житлово- комунального господарства | F33: Програма благоустрою Здолбунівської міської територіальної громади на 2025-2027 роки | G33: Рішення міської ради від 20.12.24. № 2498 | H33: =J33 -> 0 | J33: =K33 -> 0
B34: 0117130 | C34: 7130 | D34: 0421 | E34: Проведення заходів із землеустрою | F34: Програма розроблення земельної документації Здолбунівської міської територіальної громади на 2025-2027 роки | G34: Рішення міської ради від 20.12.24. № 2498 | H34: =I34+J34 -> 0 | I34: =додаток_3!E36 -> 0
B35: 0117350 | C35: 7350 | D35: 0443 | E35: Розроблення схем планування та забудови територій (містобудівної документації) | F35: Розроблення містобудівної документації Здолбунівської міської територіальної громади на 2025-2027 роки | G35: Рішення міської ради від 20.12.24. № 2498 | H35: =I35+J35 -> 0 | J35: =додаток_3!J37 -> 0 | K35: =J35 -> 0
B36: 0117367 | C36: 7367 | D36: 0490 | E36: Реалізація проектів у рамках Програми відновлення України III | F36: Програма розвитку Здолбунівської міської територіальної громади та підтримки комунальних підприємств на 2025-2027 роки | G36: Рішення міської ради від 20.12.24. № 2498 | H36: =J36 -> 0 | J36: =K36 -> 0
B37: 0117367 | C37: 7367 | D37: 0490 | E37: Реалізація проектів у рамках Програми відновлення України III | F37: Програма розвитку Здолбунівської міської територіальної громади та підтримки комунальних підприємств на 2025-2027 роки | G37: Рішення міської ради від 20.12.24. № 2498 | H37: =J37 -> 0
B38: 0117461 | C38: 7461 | D38: 0456 | E38: Утримання та розвиток автомобільних доріг та дорожньої інфраструктури за рахунок коштів місцевого бюджету | F38: Програма розвитку дорожнього господарства Здолбунівської міської територіальної громади на 2025-2027 роки | G38: Рішення міської ради від 20.12.24. № 2498 | H38: =I38+J38 -> 3994000 | I38: =додаток_3!F40 -> 3994000
B39: 0117670 | C39: 7670 | D39: 0490 | E39: Внески до статутного капіталу суб'єктів господарювання | F39: Програма розвитку Здолбунівської міської територіальної громади та підтримки комунальних підприємств на 2025-2027 роки | G39: Рішення міської ради від 20.12.24. № 2498 | H39: =I39+J39 -> 0 | J39: =K39 -> 0 | K39: =додаток_3!J41 -> 0
B40: 0117693 | C40: 7693 | D40: 0490 | E40: Інші заходи, пов'язані з економічною діяльністю | F40: Програма розвитку міжнародного та міжрегіонального співробітництва, організації та проведення конкурсів, проєктів розвитку Здолбунівської міської територіальної громади на 2025-2027 роки | G40: Рішення міської ради від 20.12.24. № 2498 | H40: =J40+I40 -> 0 | I40: =додаток_3!F43 -> 0
B41: 0117700 | C41: 7700 | D41: 0133 | E41: Реалізація програм допомоги і грантів Європейського Союзу, урядів іноземних держав, міжнародних організацій, донорських установ | F41: Програма реалізації проєкту "OLYMPICS4ALL:Active Ageing for Inclusive Communities" в Здолбунівській міській територіальній ггромаді | G41: Рішення міської ради від 25.03.26 № | H41: =J41+I41 -> 526487 | I41: 526487
...

Sheet Лист1
